BEGIN:VCALENDAR
VERSION:2.0
PRODID:-//Berufskolleg Hilden des Kreises Mettmann - ECPv6.15.18//NONSGML v1.0//EN
CALSCALE:GREGORIAN
METHOD:PUBLISH
X-WR-CALNAME:Berufskolleg Hilden des Kreises Mettmann
X-ORIGINAL-URL:https://berufskolleg.de
X-WR-CALDESC:Veranstaltungen für Berufskolleg Hilden des Kreises Mettmann
REFRESH-INTERVAL;VALUE=DURATION:PT1H
X-Robots-Tag:noindex
X-PUBLISHED-TTL:PT1H
BEGIN:VTIMEZONE
TZID:Europe/Berlin
BEGIN:DAYLIGHT
TZOFFSETFROM:+0100
TZOFFSETTO:+0200
TZNAME:CEST
DTSTART:20220327T010000
END:DAYLIGHT
BEGIN:STANDARD
TZOFFSETFROM:+0200
TZOFFSETTO:+0100
TZNAME:CET
DTSTART:20221030T010000
END:STANDARD
BEGIN:DAYLIGHT
TZOFFSETFROM:+0100
TZOFFSETTO:+0200
TZNAME:CEST
DTSTART:20230326T010000
END:DAYLIGHT
BEGIN:STANDARD
TZOFFSETFROM:+0200
TZOFFSETTO:+0100
TZNAME:CET
DTSTART:20231029T010000
END:STANDARD
BEGIN:DAYLIGHT
TZOFFSETFROM:+0100
TZOFFSETTO:+0200
TZNAME:CEST
DTSTART:20240331T010000
END:DAYLIGHT
BEGIN:STANDARD
TZOFFSETFROM:+0200
TZOFFSETTO:+0100
TZNAME:CET
DTSTART:20241027T010000
END:STANDARD
END:VTIMEZONE
BEGIN:VEVENT
DTSTART;TZID=Europe/Berlin:20230830T100000
DTEND;TZID=Europe/Berlin:20230830T143000
DTSTAMP:20260425T232706
CREATED:20230823T114045Z
LAST-MODIFIED:20230831T110241Z
UID:2401-1693389600-1693405800@berufskolleg.de
SUMMARY:Beispiel 2
DESCRIPTION:Hier steht eine Headline\nSo würden Informationen zu einer Veranstaltung dargestellt werden. Was Sie hier sehen ist nur ein beispielhates Layout. \nEuropan lingues.\nIt va esser tam simplic quam Occidental in fact\, it va esser Occidental. A un Angleso it va semblar un simplificat Angles\, quam un skeptic Cambridge amico dit me que Occidental es. \nLi Europan lingues es membres\ndel sam familie. Lor separat existentie es un myth. Por scientie\, musica\, sport etc\, litot Europa usa li sam vocabular. \n\nLi lingues differe solmen\nli grammatica\, li pronunciation e li plu commun vocabules.\nOmnicos directe al\ndesirabilite de un nov lingua franca\nOn refusa continuar\n\nPayar custosi traductores. At solmen va esser necessi far uniform grammatica\, pronunciation e plu sommun paroles.
URL:https://berufskolleg.de/event/beispiel-2/
LOCATION:Mensa des BKH
ATTACH;FMTTYPE=image/jpeg:https://berufskolleg.de/wp-content/uploads/2023/03/Aussen-Platzhalter_DSC3913.jpg
END:VEVENT
END:VCALENDAR