BEGIN:VCALENDAR
VERSION:2.0
PRODID:-//Berufskolleg Hilden des Kreises Mettmann - ECPv6.15.18//NONSGML v1.0//EN
CALSCALE:GREGORIAN
METHOD:PUBLISH
X-ORIGINAL-URL:https://berufskolleg.de
X-WR-CALDESC:Veranstaltungen für Berufskolleg Hilden des Kreises Mettmann
REFRESH-INTERVAL;VALUE=DURATION:PT1H
X-Robots-Tag:noindex
X-PUBLISHED-TTL:PT1H
BEGIN:VTIMEZONE
TZID:Europe/Berlin
BEGIN:DAYLIGHT
TZOFFSETFROM:+0100
TZOFFSETTO:+0200
TZNAME:CEST
DTSTART:20220327T010000
END:DAYLIGHT
BEGIN:STANDARD
TZOFFSETFROM:+0200
TZOFFSETTO:+0100
TZNAME:CET
DTSTART:20221030T010000
END:STANDARD
BEGIN:DAYLIGHT
TZOFFSETFROM:+0100
TZOFFSETTO:+0200
TZNAME:CEST
DTSTART:20230326T010000
END:DAYLIGHT
BEGIN:STANDARD
TZOFFSETFROM:+0200
TZOFFSETTO:+0100
TZNAME:CET
DTSTART:20231029T010000
END:STANDARD
BEGIN:DAYLIGHT
TZOFFSETFROM:+0100
TZOFFSETTO:+0200
TZNAME:CEST
DTSTART:20240331T010000
END:DAYLIGHT
BEGIN:STANDARD
TZOFFSETFROM:+0200
TZOFFSETTO:+0100
TZNAME:CET
DTSTART:20241027T010000
END:STANDARD
END:VTIMEZONE
BEGIN:VEVENT
DTSTART;TZID=Europe/Berlin:20230919T170000
DTEND;TZID=Europe/Berlin:20230919T220000
DTSTAMP:20260425T233337
CREATED:20230829T064059Z
LAST-MODIFIED:20230830T074518Z
UID:2730-1695142800-1695160800@berufskolleg.de
SUMMARY:Ein weiteres Test-Event
DESCRIPTION:Was erlaube Strunz?\nEs gibt im Moment in diese Mannschaft\, oh\, einige Spieler vergessen ihnen Profi was sie sind. Ich lese nicht sehr viele Zeitungen\, aber ich habe gehört viele Situationen. \nErstens: wir haben nicht offensiv gespielt. Es gibt keine deutsche Mannschaft spielt offensiv und die Name offensiv wie Bayern. Letzte Spiel hatten wir in Platz drei Spitzen: Elber\, Jancka und dann Zickler. Wir müssen nicht vergessen Zickler. Zickler ist eine Spitzen mehr\, Mehmet eh mehr Basler. Ist klar diese Wörter\, ist möglich verstehen\, was ich hab gesagt? Danke. Offensiv\, offensiv ist wie machen wir in Platz. \nZweitens: ich habe erklärt mit diese zwei Spieler: nach Dortmund brauchen vielleicht Halbzeit Pause. Ich habe auch andere Mannschaften gesehen in Europa nach diese Mittwoch. Ich habe gesehen auch zwei Tage die Training. Ein Trainer ist nicht ein Idiot! Ein Trainer sei sehen was passieren in Platz. In diese Spiel es waren zwei\, drei diese Spieler waren schwach wie eine Flasche leer!
URL:https://berufskolleg.de/event/ein-weiteres-test-event/
CATEGORIES:Freizeitaktivitäten
ATTACH;FMTTYPE=image/jpeg:https://berufskolleg.de/wp-content/uploads/2023/03/Schlueler-Labor-DSC01093.jpg
END:VEVENT
END:VCALENDAR