BEGIN:VCALENDAR
VERSION:2.0
PRODID:-//Berufskolleg Hilden des Kreises Mettmann - ECPv6.15.18//NONSGML v1.0//EN
CALSCALE:GREGORIAN
METHOD:PUBLISH
X-ORIGINAL-URL:https://berufskolleg.de
X-WR-CALDESC:Veranstaltungen für Berufskolleg Hilden des Kreises Mettmann
REFRESH-INTERVAL;VALUE=DURATION:PT1H
X-Robots-Tag:noindex
X-PUBLISHED-TTL:PT1H
BEGIN:VTIMEZONE
TZID:Europe/Berlin
BEGIN:DAYLIGHT
TZOFFSETFROM:+0100
TZOFFSETTO:+0200
TZNAME:CEST
DTSTART:20240331T010000
END:DAYLIGHT
BEGIN:STANDARD
TZOFFSETFROM:+0200
TZOFFSETTO:+0100
TZNAME:CET
DTSTART:20241027T010000
END:STANDARD
BEGIN:DAYLIGHT
TZOFFSETFROM:+0100
TZOFFSETTO:+0200
TZNAME:CEST
DTSTART:20250330T010000
END:DAYLIGHT
BEGIN:STANDARD
TZOFFSETFROM:+0200
TZOFFSETTO:+0100
TZNAME:CET
DTSTART:20251026T010000
END:STANDARD
BEGIN:DAYLIGHT
TZOFFSETFROM:+0100
TZOFFSETTO:+0200
TZNAME:CEST
DTSTART:20260329T010000
END:DAYLIGHT
BEGIN:STANDARD
TZOFFSETFROM:+0200
TZOFFSETTO:+0100
TZNAME:CET
DTSTART:20261025T010000
END:STANDARD
END:VTIMEZONE
BEGIN:VEVENT
DTSTART;TZID=Europe/Berlin:20250915T090000
DTEND;TZID=Europe/Berlin:20250915T133000
DTSTAMP:20260420T180801
CREATED:20240903T070052Z
LAST-MODIFIED:20250901T131004Z
UID:7648-1757926800-1757943000@berufskolleg.de
SUMMARY:Blutspendeaktion am Berufskolleg Hilden
DESCRIPTION:Blut spenden am Berufskolleg Hilden\nam 15. September\nBerufskolleg Hilden \n(in den Räumen der Hauswirtschaft im Schulgebäude)\nMontag\, den 15. September von 09:00 bis 13:30 Uhr\nTerminvergabe und weitere Informationen:Vollblut-Helden 2025
URL:https://berufskolleg.de/event/blutspendeaktion-am-berufskolleg-hilden/
CATEGORIES:Allgemeines
ATTACH;FMTTYPE=image/jpeg:https://berufskolleg.de/wp-content/uploads/2022/01/49082436_s.jpg
END:VEVENT
END:VCALENDAR