BEGIN:VCALENDAR
VERSION:2.0
PRODID:-//Berufskolleg Hilden des Kreises Mettmann - ECPv6.15.18//NONSGML v1.0//EN
CALSCALE:GREGORIAN
METHOD:PUBLISH
X-WR-CALNAME:Berufskolleg Hilden des Kreises Mettmann
X-ORIGINAL-URL:https://berufskolleg.de
X-WR-CALDESC:Veranstaltungen für Berufskolleg Hilden des Kreises Mettmann
REFRESH-INTERVAL;VALUE=DURATION:PT1H
X-Robots-Tag:noindex
X-PUBLISHED-TTL:PT1H
BEGIN:VTIMEZONE
TZID:Europe/Berlin
BEGIN:DAYLIGHT
TZOFFSETFROM:+0100
TZOFFSETTO:+0200
TZNAME:CEST
DTSTART:20240331T010000
END:DAYLIGHT
BEGIN:STANDARD
TZOFFSETFROM:+0200
TZOFFSETTO:+0100
TZNAME:CET
DTSTART:20241027T010000
END:STANDARD
BEGIN:DAYLIGHT
TZOFFSETFROM:+0100
TZOFFSETTO:+0200
TZNAME:CEST
DTSTART:20250330T010000
END:DAYLIGHT
BEGIN:STANDARD
TZOFFSETFROM:+0200
TZOFFSETTO:+0100
TZNAME:CET
DTSTART:20251026T010000
END:STANDARD
BEGIN:DAYLIGHT
TZOFFSETFROM:+0100
TZOFFSETTO:+0200
TZNAME:CEST
DTSTART:20260329T010000
END:DAYLIGHT
BEGIN:STANDARD
TZOFFSETFROM:+0200
TZOFFSETTO:+0100
TZNAME:CET
DTSTART:20261025T010000
END:STANDARD
END:VTIMEZONE
BEGIN:VEVENT
DTSTART;TZID=Europe/Berlin:20251115T100000
DTEND;TZID=Europe/Berlin:20251115T130000
DTSTAMP:20260420T144327
CREATED:20230828T130342Z
LAST-MODIFIED:20250901T131409Z
UID:2608-1763200800-1763211600@berufskolleg.de
SUMMARY:Tag der offenen Tür
DESCRIPTION:Kommen Sie vorbei!\nDas Berufskolleg Hilden lädt Sie herzlich ein uns zu besuchen. Am Samstag\, den 15.November sind unsere Türen von 10:00 Uhr bis 13:00 Uhr für Sie geöffnet.
URL:https://berufskolleg.de/event/tag-der-offenen-tuer/
CATEGORIES:Ausbildungsinfo,regelmäßige Veranstaltung
ATTACH;FMTTYPE=image/png:https://berufskolleg.de/wp-content/uploads/2024/09/Bild-Tag-der-offenen-Tuer.png
END:VEVENT
END:VCALENDAR