BEGIN:VCALENDAR
VERSION:2.0
PRODID:-//Berufskolleg Hilden des Kreises Mettmann - ECPv6.15.18//NONSGML v1.0//EN
CALSCALE:GREGORIAN
METHOD:PUBLISH
X-WR-CALNAME:Berufskolleg Hilden des Kreises Mettmann
X-ORIGINAL-URL:https://berufskolleg.de
X-WR-CALDESC:Veranstaltungen für Berufskolleg Hilden des Kreises Mettmann
REFRESH-INTERVAL;VALUE=DURATION:PT1H
X-Robots-Tag:noindex
X-PUBLISHED-TTL:PT1H
BEGIN:VTIMEZONE
TZID:Europe/Berlin
BEGIN:DAYLIGHT
TZOFFSETFROM:+0100
TZOFFSETTO:+0200
TZNAME:CEST
DTSTART:20240331T010000
END:DAYLIGHT
BEGIN:STANDARD
TZOFFSETFROM:+0200
TZOFFSETTO:+0100
TZNAME:CET
DTSTART:20241027T010000
END:STANDARD
BEGIN:DAYLIGHT
TZOFFSETFROM:+0100
TZOFFSETTO:+0200
TZNAME:CEST
DTSTART:20250330T010000
END:DAYLIGHT
BEGIN:STANDARD
TZOFFSETFROM:+0200
TZOFFSETTO:+0100
TZNAME:CET
DTSTART:20251026T010000
END:STANDARD
BEGIN:DAYLIGHT
TZOFFSETFROM:+0100
TZOFFSETTO:+0200
TZNAME:CEST
DTSTART:20260329T010000
END:DAYLIGHT
BEGIN:STANDARD
TZOFFSETFROM:+0200
TZOFFSETTO:+0100
TZNAME:CET
DTSTART:20261025T010000
END:STANDARD
END:VTIMEZONE
BEGIN:VEVENT
DTSTART;VALUE=DATE:20251120
DTEND;VALUE=DATE:20251121
DTSTAMP:20260420T144322
CREATED:20251110T105455Z
LAST-MODIFIED:20251110T105822Z
UID:8619-1763596800-1763683199@berufskolleg.de
SUMMARY:Pädagogischer Halbtag
DESCRIPTION:Pädagogischer HalbTag am BK Hilden\nAm Donnerstag\, den 20. November 2025 findet unser Pädagogischer Halbtag statt. \nAn diesem Tag findet kein Unterricht statt.\nDie Schülerinnen und Schüler in der dualen Ausbildung gehen an diesem Tag in die Ausbildungsbetriebe. \nAlle anderen Schülerinnen und Schüler haben an diesem Tag einen Studientag und bearbeiten die von den Kolleginnen und Kollegen gestellten Aufgaben.
URL:https://berufskolleg.de/event/paedagogischer-halbtag-2/
CATEGORIES:Allgemeines,Ausbildungsinfo
END:VEVENT
BEGIN:VEVENT
DTSTART;TZID=Europe/Berlin:20251120T143000
DTEND;TZID=Europe/Berlin:20251120T183000
DTSTAMP:20260420T144322
CREATED:20241118T084838Z
LAST-MODIFIED:20250901T131731Z
UID:7893-1763649000-1763663400@berufskolleg.de
SUMMARY:Ausbilder- und Eltersprechtag 2025
DESCRIPTION:Ausbilder- und Eltersprechtag\nSie sind herzlich eingeladen uns am Donnerstag\, den 20.11.2025 zu unserem diesjährigen Ausbilder- und Elternsprechtag zu besuchen. \nDonnerstag\, 20.11.2025\, 14:30 Uhr bis 18:30 Uhr \nDie teilzeitbeschäftigten Lehrkräfte sowie die Lehramtsanwärter/innen habenverkürzte Sprechzeiten. Ihre Auszubildende / IhrAuszubildender\, Ihr Kind kann Ihnen dazu konkrete Angaben machen. \nEinen Raumbelegungsplan finden Sie an den Eingängen des Schulgebäudes.Darüber hinaus stehen Ihnen unsere Lehrerinnen und Lehrer wie gewohnt auch zu individuellen Terminen zur Verfügung. \nNutzen Sie zur Terminabsprache unsereKommunikationswege über Email. Sie können auch Online-Termine vereinbaren.\nWir freuen uns auf Ihr Erscheinen und die zahlreichen Gespräche mit Ihnen.
URL:https://berufskolleg.de/event/ausbilder-und-eltersprechtag-2024/
CATEGORIES:Allgemeines,Ausbildungsinfo,regelmäßige Veranstaltung
END:VEVENT
END:VCALENDAR