BEGIN:VCALENDAR
VERSION:2.0
PRODID:-//Berufskolleg Hilden des Kreises Mettmann - ECPv6.15.18//NONSGML v1.0//EN
CALSCALE:GREGORIAN
METHOD:PUBLISH
X-ORIGINAL-URL:https://berufskolleg.de
X-WR-CALDESC:Veranstaltungen für Berufskolleg Hilden des Kreises Mettmann
REFRESH-INTERVAL;VALUE=DURATION:PT1H
X-Robots-Tag:noindex
X-PUBLISHED-TTL:PT1H
BEGIN:VTIMEZONE
TZID:Europe/Berlin
BEGIN:DAYLIGHT
TZOFFSETFROM:+0100
TZOFFSETTO:+0200
TZNAME:CEST
DTSTART:20240331T010000
END:DAYLIGHT
BEGIN:STANDARD
TZOFFSETFROM:+0200
TZOFFSETTO:+0100
TZNAME:CET
DTSTART:20241027T010000
END:STANDARD
BEGIN:DAYLIGHT
TZOFFSETFROM:+0100
TZOFFSETTO:+0200
TZNAME:CEST
DTSTART:20250330T010000
END:DAYLIGHT
BEGIN:STANDARD
TZOFFSETFROM:+0200
TZOFFSETTO:+0100
TZNAME:CET
DTSTART:20251026T010000
END:STANDARD
BEGIN:DAYLIGHT
TZOFFSETFROM:+0100
TZOFFSETTO:+0200
TZNAME:CEST
DTSTART:20260329T010000
END:DAYLIGHT
BEGIN:STANDARD
TZOFFSETFROM:+0200
TZOFFSETTO:+0100
TZNAME:CET
DTSTART:20261025T010000
END:STANDARD
END:VTIMEZONE
BEGIN:VEVENT
DTSTART;VALUE=DATE:20251121
DTEND;VALUE=DATE:20251122
DTSTAMP:20260420T144359
CREATED:20250901T125938Z
LAST-MODIFIED:20250901T132046Z
UID:8518-1763683200-1763769599@berufskolleg.de
SUMMARY:Studientag BK Hilden
DESCRIPTION:Studientag am BK Hilden\nAm Mittwoch den 21. November 2025 findet der diesjährige Studientag am Berufskolleg Hilden statt. \nAn diesem Tag findet kein Unterricht in der schule statt.\nDie Schülerinnen und Schüler bearbeiten an diesem Tag die von ihren Lehrerinnen und Lehrern gestellten Aufgaben.
URL:https://berufskolleg.de/event/studientag-bk-hilden/
CATEGORIES:Allgemeines
END:VEVENT
END:VCALENDAR