BEGIN:VCALENDAR
VERSION:2.0
PRODID:-//Berufskolleg Hilden des Kreises Mettmann - ECPv6.15.18//NONSGML v1.0//EN
CALSCALE:GREGORIAN
METHOD:PUBLISH
X-WR-CALNAME:Berufskolleg Hilden des Kreises Mettmann
X-ORIGINAL-URL:https://berufskolleg.de
X-WR-CALDESC:Veranstaltungen für Berufskolleg Hilden des Kreises Mettmann
REFRESH-INTERVAL;VALUE=DURATION:PT1H
X-Robots-Tag:noindex
X-PUBLISHED-TTL:PT1H
BEGIN:VTIMEZONE
TZID:Europe/Berlin
BEGIN:DAYLIGHT
TZOFFSETFROM:+0100
TZOFFSETTO:+0200
TZNAME:CEST
DTSTART:20220327T010000
END:DAYLIGHT
BEGIN:STANDARD
TZOFFSETFROM:+0200
TZOFFSETTO:+0100
TZNAME:CET
DTSTART:20221030T010000
END:STANDARD
BEGIN:DAYLIGHT
TZOFFSETFROM:+0100
TZOFFSETTO:+0200
TZNAME:CEST
DTSTART:20230326T010000
END:DAYLIGHT
BEGIN:STANDARD
TZOFFSETFROM:+0200
TZOFFSETTO:+0100
TZNAME:CET
DTSTART:20231029T010000
END:STANDARD
BEGIN:DAYLIGHT
TZOFFSETFROM:+0100
TZOFFSETTO:+0200
TZNAME:CEST
DTSTART:20240331T010000
END:DAYLIGHT
BEGIN:STANDARD
TZOFFSETFROM:+0200
TZOFFSETTO:+0100
TZNAME:CET
DTSTART:20241027T010000
END:STANDARD
END:VTIMEZONE
BEGIN:VEVENT
DTSTART;TZID=Europe/Berlin:20230910T110000
DTEND;TZID=Europe/Berlin:20230910T180000
DTSTAMP:20260425T214800
CREATED:20230828T124323Z
LAST-MODIFIED:20230831T110051Z
UID:2586-1694343600-1694368800@berufskolleg.de
SUMMARY:Sportfest
DESCRIPTION:Hier steht eine Überschrift\nSo würden Informationen zu einer Veranstaltung dargestellt werden. Was Sie hier sehen ist nur ein beispielhates Layout \nWeit hinten\, hinter den Wortbergen\, fern der Länder Vokalien und Konsonantien leben die Blindtexte: \n\nAbgeschieden wohnen sie in Buchstabhausen an der Küste des Semantik\, eines großen Sprachozeans.\nEin kleines Bächlein namens Duden fließt durch ihren Ort und versorgt sie mit den nötigen Regelialien.\nEs ist ein paradiesmatisches Land\, in dem einem gebratene Satzteile in den Mund fliegen.\nNicht einmal von der allmächtigen Interpunktion werden die Blindtexte beherrscht – ein geradezu unorthographisches Leben.
URL:https://berufskolleg.de/event/sportfest/
ATTACH;FMTTYPE=image/jpeg:https://berufskolleg.de/wp-content/uploads/2023/03/Sportevent-SDC14228.jpg
END:VEVENT
BEGIN:VEVENT
DTSTART;TZID=Europe/Berlin:20230912T200000
DTEND;TZID=Europe/Berlin:20230912T210000
DTSTAMP:20260425T214800
CREATED:20230831T082026Z
LAST-MODIFIED:20230907T063322Z
UID:3086-1694548800-1694552400@berufskolleg.de
SUMMARY:Klassenpflegschaften
DESCRIPTION:Nähere Informationen zu den für  Klassenpflegschaftssitzungen erhalten Sie bei Ihrer jeweiligen Klassenleitung.
URL:https://berufskolleg.de/event/klassenpflegschaften/
CATEGORIES:regelmäßige Veranstaltung
END:VEVENT
BEGIN:VEVENT
DTSTART;TZID=Europe/Berlin:20230918T100000
DTEND;TZID=Europe/Berlin:20230918T140000
DTSTAMP:20260425T214800
CREATED:20230828T134013Z
LAST-MODIFIED:20230830T074004Z
UID:2653-1695031200-1695045600@berufskolleg.de
SUMMARY:XYZ
DESCRIPTION:ABC def ghiJk\nEine wunderbare Heiterkeit hat meine ganze Seele eingenommen\, gleich den süßen Frühlingsmorgen\, die ich mit ganzem Herzen genieße. Ich bin allein und freue mich meines Lebens in dieser Gegend\, die für solche Seelen geschaffen ist wie die meine. Ich bin so glücklich\, mein Bester\, so ganz in dem Gefühle von ruhigem Dasein versunken\, daß meine Kunst darunter leidet. Ich könnte jetzt nicht zeichnen\, nicht einen Strich\, und bin nie ein größerer Maler gewesen als in diesen Augenblicken.
URL:https://berufskolleg.de/event/xyz/
CATEGORIES:Ausbildungsinfo
ATTACH;FMTTYPE=image/jpeg:https://berufskolleg.de/wp-content/uploads/2023/08/Overlay-Lego-movie.jpg
END:VEVENT
BEGIN:VEVENT
DTSTART;TZID=Europe/Berlin:20230919T170000
DTEND;TZID=Europe/Berlin:20230919T220000
DTSTAMP:20260425T214800
CREATED:20230829T064059Z
LAST-MODIFIED:20230830T074518Z
UID:2730-1695142800-1695160800@berufskolleg.de
SUMMARY:Ein weiteres Test-Event
DESCRIPTION:Was erlaube Strunz?\nEs gibt im Moment in diese Mannschaft\, oh\, einige Spieler vergessen ihnen Profi was sie sind. Ich lese nicht sehr viele Zeitungen\, aber ich habe gehört viele Situationen. \nErstens: wir haben nicht offensiv gespielt. Es gibt keine deutsche Mannschaft spielt offensiv und die Name offensiv wie Bayern. Letzte Spiel hatten wir in Platz drei Spitzen: Elber\, Jancka und dann Zickler. Wir müssen nicht vergessen Zickler. Zickler ist eine Spitzen mehr\, Mehmet eh mehr Basler. Ist klar diese Wörter\, ist möglich verstehen\, was ich hab gesagt? Danke. Offensiv\, offensiv ist wie machen wir in Platz. \nZweitens: ich habe erklärt mit diese zwei Spieler: nach Dortmund brauchen vielleicht Halbzeit Pause. Ich habe auch andere Mannschaften gesehen in Europa nach diese Mittwoch. Ich habe gesehen auch zwei Tage die Training. Ein Trainer ist nicht ein Idiot! Ein Trainer sei sehen was passieren in Platz. In diese Spiel es waren zwei\, drei diese Spieler waren schwach wie eine Flasche leer!
URL:https://berufskolleg.de/event/ein-weiteres-test-event/
CATEGORIES:Freizeitaktivitäten
ATTACH;FMTTYPE=image/jpeg:https://berufskolleg.de/wp-content/uploads/2023/03/Schlueler-Labor-DSC01093.jpg
END:VEVENT
BEGIN:VEVENT
DTSTART;TZID=Europe/Berlin:20230925T200000
DTEND;TZID=Europe/Berlin:20230925T220000
DTSTAMP:20260425T214800
CREATED:20230828T132607Z
LAST-MODIFIED:20230829T114153Z
UID:2636-1695672000-1695679200@berufskolleg.de
SUMMARY:Elternabend
DESCRIPTION:Zeit zu Reden\nHeute können sich alle interesserten Eltern mit dem Lehrpersonal über die Fortschritte oder Probleme mit den verschiedenen Fächern unterhalten.
URL:https://berufskolleg.de/event/elternabend/
LOCATION:Alle Gebäude\, Am Holterhöfchen 34\, Hilden\, NRW\, 40724
ATTACH;FMTTYPE=image/jpeg:https://berufskolleg.de/wp-content/uploads/2023/03/BKHilden-02.jpg
END:VEVENT
END:VCALENDAR